BEGIN:VCALENDAR
VERSION:2.0
PRODID:-//Charlestown Maryland - ECPv6.15.20//NONSGML v1.0//EN
CALSCALE:GREGORIAN
METHOD:PUBLISH
X-ORIGINAL-URL:https://www.charlestownmd.org
X-WR-CALDESC:Events for Charlestown Maryland
REFRESH-INTERVAL;VALUE=DURATION:PT1H
X-Robots-Tag:noindex
X-PUBLISHED-TTL:PT1H
BEGIN:VTIMEZONE
TZID:America/New_York
BEGIN:DAYLIGHT
TZOFFSETFROM:-0500
TZOFFSETTO:-0400
TZNAME:EDT
DTSTART:20220313T070000
END:DAYLIGHT
BEGIN:STANDARD
TZOFFSETFROM:-0400
TZOFFSETTO:-0500
TZNAME:EST
DTSTART:20221106T060000
END:STANDARD
BEGIN:DAYLIGHT
TZOFFSETFROM:-0500
TZOFFSETTO:-0400
TZNAME:EDT
DTSTART:20230312T070000
END:DAYLIGHT
BEGIN:STANDARD
TZOFFSETFROM:-0400
TZOFFSETTO:-0500
TZNAME:EST
DTSTART:20231105T060000
END:STANDARD
BEGIN:DAYLIGHT
TZOFFSETFROM:-0500
TZOFFSETTO:-0400
TZNAME:EDT
DTSTART:20240310T070000
END:DAYLIGHT
BEGIN:STANDARD
TZOFFSETFROM:-0400
TZOFFSETTO:-0500
TZNAME:EST
DTSTART:20241103T060000
END:STANDARD
END:VTIMEZONE
BEGIN:VEVENT
DTSTART;TZID=America/New_York:20231214T170000
DTEND;TZID=America/New_York:20231214T200000
DTSTAMP:20260420T023126
CREATED:20231107T185236Z
LAST-MODIFIED:20231214T174916Z
UID:12674-1702573200-1702584000@www.charlestownmd.org
SUMMARY:Annual Christmas Open House
DESCRIPTION:The Town Commissioners of Charlestown wish to invite you to ourannual Holiday Open House celebration. \n We hope you’ll join us in spreading some holiday cheer with TownCommissioners\, Town Staff and fellow residents while enjoying an array of hord’oeuvres\, desserts\, and refreshments. \n This event is free\, and parking will be free at The WellwoodRestaurant. \n If you plan to attend\,please complete the registration form by following this link: https://lp.constantcontactpages.com/ev/reg/un8dfre/lp/4623c7ed-677d-4897-bc82-b92fc2145c2c
URL:https://www.charlestownmd.org/event/annual-christmas-open-house/
LOCATION:The Wellwood Restaurant\, 523 Water St\, Charlestown\, MD\, United States
END:VEVENT
END:VCALENDAR