BEGIN:VCALENDAR
VERSION:2.0
PRODID:-//Charlestown Maryland - ECPv6.15.20//NONSGML v1.0//EN
CALSCALE:GREGORIAN
METHOD:PUBLISH
X-ORIGINAL-URL:https://www.charlestownmd.org
X-WR-CALDESC:Events for Charlestown Maryland
REFRESH-INTERVAL;VALUE=DURATION:PT1H
X-Robots-Tag:noindex
X-PUBLISHED-TTL:PT1H
BEGIN:VTIMEZONE
TZID:America/New_York
BEGIN:DAYLIGHT
TZOFFSETFROM:-0500
TZOFFSETTO:-0400
TZNAME:EDT
DTSTART:20230312T070000
END:DAYLIGHT
BEGIN:STANDARD
TZOFFSETFROM:-0400
TZOFFSETTO:-0500
TZNAME:EST
DTSTART:20231105T060000
END:STANDARD
BEGIN:DAYLIGHT
TZOFFSETFROM:-0500
TZOFFSETTO:-0400
TZNAME:EDT
DTSTART:20240310T070000
END:DAYLIGHT
BEGIN:STANDARD
TZOFFSETFROM:-0400
TZOFFSETTO:-0500
TZNAME:EST
DTSTART:20241103T060000
END:STANDARD
BEGIN:DAYLIGHT
TZOFFSETFROM:-0500
TZOFFSETTO:-0400
TZNAME:EDT
DTSTART:20250309T070000
END:DAYLIGHT
BEGIN:STANDARD
TZOFFSETFROM:-0400
TZOFFSETTO:-0500
TZNAME:EST
DTSTART:20251102T060000
END:STANDARD
END:VTIMEZONE
BEGIN:VEVENT
DTSTART;TZID=America/New_York:20240314T180000
DTEND;TZID=America/New_York:20240314T200000
DTSTAMP:20260423T205425
CREATED:20240309T210316Z
LAST-MODIFIED:20240309T210316Z
UID:14031-1710439200-1710446400@www.charlestownmd.org
SUMMARY:Comprehensive Plan Kick-Off Meeting
DESCRIPTION:Our volunteer board memberswill be meeting to begin the visioning process for Charlestown’s update of itsComprehensive Plan. This meeting will help to chart the course for howCharlestown will look 20 years from now. \n  \nThey will be exploring topicssuch as land use/zoning\, water resources\, growth\, historic preservation\, andenvironmental stewardship\, to name a few. \n  \nWe encourage you to join usin-person\, but a Zoom link is also available below. \n  \nZoom: https://us06web.zoom.us/j/88050917060?pwd=vbRJQxut1pAK1PMqghaz0istjRLRZv.1 \nMeeting ID: 880 5091 7060\,Passcode: 394273\, Phone: 301-715-8592 \n  \nTo review more informationabout our Comprehensive Plan\, please click here.
URL:https://www.charlestownmd.org/event/comprehensive-plan-kick-off-meeting/
LOCATION:Charlestown Fire Company\, 307 Market St\, Charlestown\, MD 21914\, USA
END:VEVENT
BEGIN:VEVENT
DTSTART;TZID=America/New_York:20240314T180000
DTEND;TZID=America/New_York:20240314T200000
DTSTAMP:20260423T205425
CREATED:20240309T210316Z
LAST-MODIFIED:20240314T213321Z
UID:14032-1710439200-1710446400@www.charlestownmd.org
SUMMARY:Comprehensive Plan Kick-Off Meeting
DESCRIPTION:Our volunteer board memberswill be meeting to begin the visioning process for Charlestown’s update of itsComprehensive Plan. This meeting will help to chart the course for howCharlestown will look 20 years from now. \n  \nThey will be exploring topicssuch as land use/zoning\, water resources\, growth\, historic preservation\, andenvironmental stewardship\, to name a few. \n  \nWe encourage you to join usin-person\, but a Zoom link is also available below. \n  \nZoom: https://us06web.zoom.us/j/88050917060?pwd=vbRJQxut1pAK1PMqghaz0istjRLRZv.1 \nMeeting ID: 880 5091 7060\,Passcode: 394273\, Phone: 301-715-8592 \n  \nTo review more informationabout our Comprehensive Plan\, please click here.
URL:https://www.charlestownmd.org/event/comprehensive-plan-kick-off-meeting-2/
LOCATION:Charlestown Fire Company\, 307 Market St\, Charlestown\, MD 21914\, USA
END:VEVENT
END:VCALENDAR