BEGIN:VCALENDAR
VERSION:2.0
PRODID:-//Charlestown Maryland - ECPv6.15.20//NONSGML v1.0//EN
CALSCALE:GREGORIAN
METHOD:PUBLISH
X-ORIGINAL-URL:https://www.charlestownmd.org
X-WR-CALDESC:Events for Charlestown Maryland
REFRESH-INTERVAL;VALUE=DURATION:PT1H
X-Robots-Tag:noindex
X-PUBLISHED-TTL:PT1H
BEGIN:VTIMEZONE
TZID:America/New_York
BEGIN:DAYLIGHT
TZOFFSETFROM:-0500
TZOFFSETTO:-0400
TZNAME:EDT
DTSTART:20230312T070000
END:DAYLIGHT
BEGIN:STANDARD
TZOFFSETFROM:-0400
TZOFFSETTO:-0500
TZNAME:EST
DTSTART:20231105T060000
END:STANDARD
BEGIN:DAYLIGHT
TZOFFSETFROM:-0500
TZOFFSETTO:-0400
TZNAME:EDT
DTSTART:20240310T070000
END:DAYLIGHT
BEGIN:STANDARD
TZOFFSETFROM:-0400
TZOFFSETTO:-0500
TZNAME:EST
DTSTART:20241103T060000
END:STANDARD
BEGIN:DAYLIGHT
TZOFFSETFROM:-0500
TZOFFSETTO:-0400
TZNAME:EDT
DTSTART:20250309T070000
END:DAYLIGHT
BEGIN:STANDARD
TZOFFSETFROM:-0400
TZOFFSETTO:-0500
TZNAME:EST
DTSTART:20251102T060000
END:STANDARD
END:VTIMEZONE
BEGIN:VEVENT
DTSTART;VALUE=DATE:20240413
DTEND;VALUE=DATE:20240414
DTSTAMP:20260422T070649
CREATED:20240129T193316Z
LAST-MODIFIED:20240413T000315Z
UID:13846-1712966400-1713052799@www.charlestownmd.org
SUMMARY:Athletic Complex Reservation - Susquehanna Spartans
DESCRIPTION:The Athletic Complex has been reserved for a traveling baseball team\, Susquehanna Spartans\, from March 1st until June 15th for Mondays\, Wednesdays\, Fridays and Saturdays.
URL:https://www.charlestownmd.org/event/athletic-complex-reservation-susquehanna-spartans-26/
LOCATION:Athletic Complex\, Charlestown\, MD
END:VEVENT
BEGIN:VEVENT
DTSTART;TZID=America/New_York:20240413T110000
DTEND;TZID=America/New_York:20240413T130000
DTSTAMP:20260422T070649
CREATED:20240402T233330Z
LAST-MODIFIED:20240413T000315Z
UID:14111-1713006000-1713013200@www.charlestownmd.org
SUMMARY:Town Scavenger Hunt
DESCRIPTION:Free and fun for all ages! The hunt will start no sooner than 11am\, will include all sections of Town\, and prizes will be awarded to the first 3 participants\, or groups of participants\, that meet us at Avalon Park with their completed list before 1pm. The list will be emailed/posted promptly at 11am; physical copies will be available at Avalon Park. Please visit our website for full event details: https://www.charlestownmd.org/toc-events/.
URL:https://www.charlestownmd.org/event/town-scavenger-hunt/
END:VEVENT
END:VCALENDAR