BEGIN:VCALENDAR
VERSION:2.0
PRODID:-//Charlestown Maryland - ECPv6.15.20//NONSGML v1.0//EN
CALSCALE:GREGORIAN
METHOD:PUBLISH
X-WR-CALNAME:Charlestown Maryland
X-ORIGINAL-URL:https://www.charlestownmd.org
X-WR-CALDESC:Events for Charlestown Maryland
REFRESH-INTERVAL;VALUE=DURATION:PT1H
X-Robots-Tag:noindex
X-PUBLISHED-TTL:PT1H
BEGIN:VTIMEZONE
TZID:America/New_York
BEGIN:DAYLIGHT
TZOFFSETFROM:-0500
TZOFFSETTO:-0400
TZNAME:EDT
DTSTART:20230312T070000
END:DAYLIGHT
BEGIN:STANDARD
TZOFFSETFROM:-0400
TZOFFSETTO:-0500
TZNAME:EST
DTSTART:20231105T060000
END:STANDARD
BEGIN:DAYLIGHT
TZOFFSETFROM:-0500
TZOFFSETTO:-0400
TZNAME:EDT
DTSTART:20240310T070000
END:DAYLIGHT
BEGIN:STANDARD
TZOFFSETFROM:-0400
TZOFFSETTO:-0500
TZNAME:EST
DTSTART:20241103T060000
END:STANDARD
BEGIN:DAYLIGHT
TZOFFSETFROM:-0500
TZOFFSETTO:-0400
TZNAME:EDT
DTSTART:20250309T070000
END:DAYLIGHT
BEGIN:STANDARD
TZOFFSETFROM:-0400
TZOFFSETTO:-0500
TZNAME:EST
DTSTART:20251102T060000
END:STANDARD
END:VTIMEZONE
BEGIN:VEVENT
DTSTART;TZID=America/New_York:20240912T180000
DTEND;TZID=America/New_York:20240912T200000
DTSTAMP:20260423T095154
CREATED:20240705T180821Z
LAST-MODIFIED:20240912T215645Z
UID:14537-1726164000-1726171200@www.charlestownmd.org
SUMMARY:Town Hall Meeting - Scott Gardens\, Louisa Ln Ext & Route 7
DESCRIPTION:Wehope you will be able to join us at the Charlestown Fire Hall or via Zoom at6:00pm so we can review previous topics and continue important discussions onmatters such as stormwater management and neighborhood safety. These listeningsessions are essential for gathering feedback to guide Charlestown in the rightdirection and keeping our residents safe and informed. Your feedback is muchappreciated! \nJoin Via Zoomhttps://us06web.zoom.us/j/83847754421?pwd=XGbZcQRbMkB7nwxya0ewPatKi724XY.1Meeting ID: 838 4775 4421Passcode: 342707Phone: 301-715-8592
URL:https://www.charlestownmd.org/event/town-hall-meeting-scott-gardens-louisa-ln-ext-route-7/
LOCATION:Charlestown Fire Company\, 307 Market St\, Charlestown\, MD\, United States
END:VEVENT
END:VCALENDAR