BEGIN:VCALENDAR
VERSION:2.0
PRODID:-//Charlestown Maryland - ECPv6.15.20//NONSGML v1.0//EN
CALSCALE:GREGORIAN
METHOD:PUBLISH
X-WR-CALNAME:Charlestown Maryland
X-ORIGINAL-URL:https://www.charlestownmd.org
X-WR-CALDESC:Events for Charlestown Maryland
REFRESH-INTERVAL;VALUE=DURATION:PT1H
X-Robots-Tag:noindex
X-PUBLISHED-TTL:PT1H
BEGIN:VTIMEZONE
TZID:America/New_York
BEGIN:DAYLIGHT
TZOFFSETFROM:-0500
TZOFFSETTO:-0400
TZNAME:EDT
DTSTART:20230312T070000
END:DAYLIGHT
BEGIN:STANDARD
TZOFFSETFROM:-0400
TZOFFSETTO:-0500
TZNAME:EST
DTSTART:20231105T060000
END:STANDARD
BEGIN:DAYLIGHT
TZOFFSETFROM:-0500
TZOFFSETTO:-0400
TZNAME:EDT
DTSTART:20240310T070000
END:DAYLIGHT
BEGIN:STANDARD
TZOFFSETFROM:-0400
TZOFFSETTO:-0500
TZNAME:EST
DTSTART:20241103T060000
END:STANDARD
BEGIN:DAYLIGHT
TZOFFSETFROM:-0500
TZOFFSETTO:-0400
TZNAME:EDT
DTSTART:20250309T070000
END:DAYLIGHT
BEGIN:STANDARD
TZOFFSETFROM:-0400
TZOFFSETTO:-0500
TZNAME:EST
DTSTART:20251102T060000
END:STANDARD
END:VTIMEZONE
BEGIN:VEVENT
DTSTART;TZID=America/New_York:20240921T120000
DTEND;TZID=America/New_York:20240921T190000
DTSTAMP:20260423T032728
CREATED:20240613T163324Z
LAST-MODIFIED:20240921T215437Z
UID:14452-1726920000-1726945200@www.charlestownmd.org
SUMMARY:Rockfish Music and Arts Festival
DESCRIPTION:Music and Arts festival featuring live music from Middle of Nowhere\, Red Toad Connection\, and BLEECH.\nBeer\, food\, vendors\, and live music. Activities for kids include tie dye shirts and crafts. Bring your own chair or blanket. Free parking at Avalon Lot B\, and at Lot A with parking permit.\nView all details on Facebook here: https://www.facebook.com/share/WGTJi7YitJF7ZUBv/
URL:https://www.charlestownmd.org/event/music-in-the-park-concert-series-2/
LOCATION:Avalon Park & Stage in Charlestown\, 20 Louisa Ln\, Charlestown\, MD\, United States
END:VEVENT
END:VCALENDAR