BEGIN:VCALENDAR
VERSION:2.0
PRODID:-//Charlestown Maryland - ECPv6.15.20//NONSGML v1.0//EN
CALSCALE:GREGORIAN
METHOD:PUBLISH
X-ORIGINAL-URL:https://www.charlestownmd.org
X-WR-CALDESC:Events for Charlestown Maryland
REFRESH-INTERVAL;VALUE=DURATION:PT1H
X-Robots-Tag:noindex
X-PUBLISHED-TTL:PT1H
BEGIN:VTIMEZONE
TZID:America/New_York
BEGIN:DAYLIGHT
TZOFFSETFROM:-0500
TZOFFSETTO:-0400
TZNAME:EDT
DTSTART:20240310T070000
END:DAYLIGHT
BEGIN:STANDARD
TZOFFSETFROM:-0400
TZOFFSETTO:-0500
TZNAME:EST
DTSTART:20241103T060000
END:STANDARD
BEGIN:DAYLIGHT
TZOFFSETFROM:-0500
TZOFFSETTO:-0400
TZNAME:EDT
DTSTART:20250309T070000
END:DAYLIGHT
BEGIN:STANDARD
TZOFFSETFROM:-0400
TZOFFSETTO:-0500
TZNAME:EST
DTSTART:20251102T060000
END:STANDARD
BEGIN:DAYLIGHT
TZOFFSETFROM:-0500
TZOFFSETTO:-0400
TZNAME:EDT
DTSTART:20260308T070000
END:DAYLIGHT
BEGIN:STANDARD
TZOFFSETFROM:-0400
TZOFFSETTO:-0500
TZNAME:EST
DTSTART:20261101T060000
END:STANDARD
END:VTIMEZONE
BEGIN:VEVENT
DTSTART;VALUE=DATE:20250602
DTEND;VALUE=DATE:20250603
DTSTAMP:20260425T171234
CREATED:20231107T185250Z
LAST-MODIFIED:20250319T181359Z
UID:12899-1748822400-1748908799@www.charlestownmd.org
SUMMARY:Payment Plan Payments Due Today!
DESCRIPTION:Residents who currently have an active payment plan established are required to make monthly payments by the 1st of every month\, or on the Monday that immediately follows when the 1st falls on a weekend\, for as long as their agreement requires.
URL:https://www.charlestownmd.org/event/payment-plan-payments-due-today-19/
LOCATION:Charlestown Town Hall\, 241 Market St\, Charlestown\, MD\, United States
END:VEVENT
BEGIN:VEVENT
DTSTART;TZID=America/New_York:20250603T180000
DTEND;TZID=America/New_York:20250603T190000
DTSTAMP:20260425T171234
CREATED:20231107T185250Z
LAST-MODIFIED:20250603T221332Z
UID:12900-1748973600-1748977200@www.charlestownmd.org
SUMMARY:Historic District Commission Meeting
DESCRIPTION:Held on the first Tuesday of every month. \nJoin Zoom Meetinghttps://us06web.zoom.us/j/87596635389?pwd=Q3lhQVRrMG9zK3p4VGJucVYvUUZFUT09 \nMeeting ID: 875 9663 5389Passcode: 525575Phone: 301-715-8592\, 525575
URL:https://www.charlestownmd.org/event/historic-district-commission-meeting-20/
LOCATION:https://us06web.zoom.us/j/87596635389?pwd=Q3lhQVRrMG9zK3p4VGJucVYvUUZFUT09
END:VEVENT
BEGIN:VEVENT
DTSTART;VALUE=DATE:20250604
DTEND;VALUE=DATE:20250605
DTSTAMP:20260425T171234
CREATED:20231107T185250Z
LAST-MODIFIED:20250604T222859Z
UID:12901-1748995200-1749081599@www.charlestownmd.org
SUMMARY:Household Trash & Recycles Collection
DESCRIPTION:
URL:https://www.charlestownmd.org/event/household-trash-recycles-collection-83/
LOCATION:Charlestown\, MD\, USA
END:VEVENT
BEGIN:VEVENT
DTSTART;TZID=America/New_York:20250605T180000
DTEND;TZID=America/New_York:20250605T200000
DTSTAMP:20260425T171234
CREATED:20231107T185250Z
LAST-MODIFIED:20250605T222827Z
UID:12902-1749146400-1749153600@www.charlestownmd.org
SUMMARY:Planning & Zoning Commission
DESCRIPTION:
URL:https://www.charlestownmd.org/event/planning-zoning-commission-20/
LOCATION:Charlestown Town Hall\, 241 Market St\, Charlestown\, MD\, United States
END:VEVENT
BEGIN:VEVENT
DTSTART;VALUE=DATE:20250609
DTEND;VALUE=DATE:20250610
DTSTAMP:20260425T171234
CREATED:20231107T185250Z
LAST-MODIFIED:20250609T231338Z
UID:12903-1749427200-1749513599@www.charlestownmd.org
SUMMARY:Yard Waste Collection
DESCRIPTION:Yard Waste is collected every 2nd and 4th Monday of the month. No need to contact Town Hall.\nIf collection day falls on a Federal Holiday\, yard waste will be collected on Tuesday.
URL:https://www.charlestownmd.org/event/yard-waste-collection-39/
END:VEVENT
BEGIN:VEVENT
DTSTART;TZID=America/New_York:20250610T180000
DTEND;TZID=America/New_York:20250610T200000
DTSTAMP:20260425T171234
CREATED:20231107T185250Z
LAST-MODIFIED:20250610T231343Z
UID:12904-1749578400-1749585600@www.charlestownmd.org
SUMMARY:Town Commissioners Meeting
DESCRIPTION:
URL:https://www.charlestownmd.org/event/town-commissioners-meeting-38/
LOCATION:Charlestown Town Hall\, 241 Market St\, Charlestown\, MD\, United States
END:VEVENT
BEGIN:VEVENT
DTSTART;VALUE=DATE:20250611
DTEND;VALUE=DATE:20250612
DTSTAMP:20260425T171234
CREATED:20231107T185250Z
LAST-MODIFIED:20250611T231337Z
UID:12905-1749600000-1749686399@www.charlestownmd.org
SUMMARY:Household Trash & Recycles Collection
DESCRIPTION:
URL:https://www.charlestownmd.org/event/household-trash-recycles-collection-84/
LOCATION:Charlestown\, MD\, USA
END:VEVENT
BEGIN:VEVENT
DTSTART;TZID=America/New_York:20250614T100000
DTEND;TZID=America/New_York:20250614T140000
DTSTAMP:20260425T171234
CREATED:20241217T145909Z
LAST-MODIFIED:20250613T232842Z
UID:15160-1749895200-1749909600@www.charlestownmd.org
SUMMARY:16th Annual Cecil County Wade-In
DESCRIPTION:Details available closer to the event.
URL:https://www.charlestownmd.org/event/16th-annual-cecil-county-wade-in/
LOCATION:Veterans Park\, Charlestown\, MD\, United States
END:VEVENT
BEGIN:VEVENT
DTSTART;VALUE=DATE:20250618
DTEND;VALUE=DATE:20250619
DTSTAMP:20260425T171234
CREATED:20231107T185250Z
LAST-MODIFIED:20250618T234334Z
UID:12906-1750204800-1750291199@www.charlestownmd.org
SUMMARY:Household Trash & Recycles Collection
DESCRIPTION:
URL:https://www.charlestownmd.org/event/household-trash-recycles-collection-85/
LOCATION:Charlestown\, MD\, USA
END:VEVENT
BEGIN:VEVENT
DTSTART;VALUE=DATE:20250619
DTEND;VALUE=DATE:20250620
DTSTAMP:20260425T171234
CREATED:20231208T173416Z
LAST-MODIFIED:20250619T235831Z
UID:13527-1750291200-1750377599@www.charlestownmd.org
SUMMARY:Town Hall Closed
DESCRIPTION:
URL:https://www.charlestownmd.org/event/town-hall-closed-17/
END:VEVENT
BEGIN:VEVENT
DTSTART;VALUE=DATE:20250623
DTEND;VALUE=DATE:20250624
DTSTAMP:20260425T171234
CREATED:20231107T185250Z
LAST-MODIFIED:20250622T235829Z
UID:12907-1750636800-1750723199@www.charlestownmd.org
SUMMARY:Yard Waste Collection
DESCRIPTION:Yard Waste is collected every 2nd and 4th Monday of the month. No need to contact Town Hall.
URL:https://www.charlestownmd.org/event/yard-waste-collection-40/
END:VEVENT
BEGIN:VEVENT
DTSTART;TZID=America/New_York:20250624T180000
DTEND;TZID=America/New_York:20250624T200000
DTSTAMP:20260425T171234
CREATED:20231107T185250Z
LAST-MODIFIED:20250624T001327Z
UID:12909-1750788000-1750795200@www.charlestownmd.org
SUMMARY:Town Commissioners Meeting
DESCRIPTION:
URL:https://www.charlestownmd.org/event/town-commissioners-meeting-39/
LOCATION:Charlestown Town Hall\, 241 Market St\, Charlestown\, MD\, United States
END:VEVENT
BEGIN:VEVENT
DTSTART;VALUE=DATE:20250625
DTEND;VALUE=DATE:20250626
DTSTAMP:20260425T171234
CREATED:20231107T185251Z
LAST-MODIFIED:20250625T001443Z
UID:12910-1750809600-1750895999@www.charlestownmd.org
SUMMARY:Household Trash & Recycles Collection
DESCRIPTION:
URL:https://www.charlestownmd.org/event/household-trash-recycles-collection-86/
LOCATION:Charlestown\, MD\, USA
END:VEVENT
END:VCALENDAR